BEGIN:VCALENDAR
VERSION:2.0
PRODID:-//Chatham County NC ABC Board - ECPv6.15.14//NONSGML v1.0//EN
CALSCALE:GREGORIAN
METHOD:PUBLISH
X-ORIGINAL-URL:https://chatham.ncabcboards.com
X-WR-CALDESC:Events for Chatham County NC ABC Board
REFRESH-INTERVAL;VALUE=DURATION:PT1H
X-Robots-Tag:noindex
X-PUBLISHED-TTL:PT1H
BEGIN:VTIMEZONE
TZID:America/New_York
BEGIN:DAYLIGHT
TZOFFSETFROM:-0500
TZOFFSETTO:-0400
TZNAME:EDT
DTSTART:20230312T070000
END:DAYLIGHT
BEGIN:STANDARD
TZOFFSETFROM:-0400
TZOFFSETTO:-0500
TZNAME:EST
DTSTART:20231105T060000
END:STANDARD
BEGIN:DAYLIGHT
TZOFFSETFROM:-0500
TZOFFSETTO:-0400
TZNAME:EDT
DTSTART:20240310T070000
END:DAYLIGHT
BEGIN:STANDARD
TZOFFSETFROM:-0400
TZOFFSETTO:-0500
TZNAME:EST
DTSTART:20241103T060000
END:STANDARD
BEGIN:DAYLIGHT
TZOFFSETFROM:-0500
TZOFFSETTO:-0400
TZNAME:EDT
DTSTART:20250309T070000
END:DAYLIGHT
BEGIN:STANDARD
TZOFFSETFROM:-0400
TZOFFSETTO:-0500
TZNAME:EST
DTSTART:20251102T060000
END:STANDARD
END:VTIMEZONE
BEGIN:VEVENT
DTSTART;TZID=America/New_York:20241101T150000
DTEND;TZID=America/New_York:20241101T180000
DTSTAMP:20260423T063755
CREATED:20221213T150644Z
LAST-MODIFIED:20251020T165345Z
UID:10005329-1730473200-1730484000@chatham.ncabcboards.com
SUMMARY:Chatham Crossings
DESCRIPTION:Chatham Crossings Product Tasting Event\nThank you for visiting our Booking Page to book your tasting dates! Once you submit your request\, a member of our leadership team will contact you within 48 hours to confirm. \nDownload the Guidelines and necessary paperwork that will need to be signed prior to any sampling events being approved.  Once we have received the request form for the event we will confirm product availability within Chatham County\, as we do not stock every code available to us.  If there’s a code that we do not carry it may take a few weeks to receive from LBB.  Sampling events will be conducted Thursday-Saturday in three hour sessions. They will be held from 3pm-6pm. \nClick here to Download the Guidelines and email back to: matt@chatham.ncabcboards.com \nApproval will be emailed back to you which is confirmation of your event. If product will need to be ordered from LBB\, a team member will contact you to make any necessary date changes. \n*If you would like to request a time slot with a starting time other than what the default option is for the day you are booking\, please enter that in the notes section and our booking manager will reach out to discuss. \nNow lets get started\, please fill out the information below.
URL:https://chatham.ncabcboards.com/event/product-tasting-event/2024-11-01/
LOCATION:Chatham Crossings\, 11312 US HWY 15-501 N Suite 302\, Chapel Hill\, NC\, 27517
CATEGORIES:Chatham Crossings
END:VEVENT
BEGIN:VEVENT
DTSTART;TZID=America/New_York:20241102T150000
DTEND;TZID=America/New_York:20241102T180000
DTSTAMP:20260423T063755
CREATED:20221213T150644Z
LAST-MODIFIED:20251020T165345Z
UID:10005330-1730559600-1730570400@chatham.ncabcboards.com
SUMMARY:Chatham Crossings
DESCRIPTION:Chatham Crossings Product Tasting Event\nThank you for visiting our Booking Page to book your tasting dates! Once you submit your request\, a member of our leadership team will contact you within 48 hours to confirm. \nDownload the Guidelines and necessary paperwork that will need to be signed prior to any sampling events being approved.  Once we have received the request form for the event we will confirm product availability within Chatham County\, as we do not stock every code available to us.  If there’s a code that we do not carry it may take a few weeks to receive from LBB.  Sampling events will be conducted Thursday-Saturday in three hour sessions. They will be held from 3pm-6pm. \nClick here to Download the Guidelines and email back to: matt@chatham.ncabcboards.com \nApproval will be emailed back to you which is confirmation of your event. If product will need to be ordered from LBB\, a team member will contact you to make any necessary date changes. \n*If you would like to request a time slot with a starting time other than what the default option is for the day you are booking\, please enter that in the notes section and our booking manager will reach out to discuss. \nNow lets get started\, please fill out the information below.
URL:https://chatham.ncabcboards.com/event/product-tasting-event/2024-11-02/
LOCATION:Chatham Crossings\, 11312 US HWY 15-501 N Suite 302\, Chapel Hill\, NC\, 27517
CATEGORIES:Chatham Crossings
END:VEVENT
BEGIN:VEVENT
DTSTART;TZID=America/New_York:20241107T150000
DTEND;TZID=America/New_York:20241107T180000
DTSTAMP:20260423T063755
CREATED:20221213T150644Z
LAST-MODIFIED:20251020T165345Z
UID:10005331-1730991600-1731002400@chatham.ncabcboards.com
SUMMARY:Chatham Crossings
DESCRIPTION:Chatham Crossings Product Tasting Event\nThank you for visiting our Booking Page to book your tasting dates! Once you submit your request\, a member of our leadership team will contact you within 48 hours to confirm. \nDownload the Guidelines and necessary paperwork that will need to be signed prior to any sampling events being approved.  Once we have received the request form for the event we will confirm product availability within Chatham County\, as we do not stock every code available to us.  If there’s a code that we do not carry it may take a few weeks to receive from LBB.  Sampling events will be conducted Thursday-Saturday in three hour sessions. They will be held from 3pm-6pm. \nClick here to Download the Guidelines and email back to: matt@chatham.ncabcboards.com \nApproval will be emailed back to you which is confirmation of your event. If product will need to be ordered from LBB\, a team member will contact you to make any necessary date changes. \n*If you would like to request a time slot with a starting time other than what the default option is for the day you are booking\, please enter that in the notes section and our booking manager will reach out to discuss. \nNow lets get started\, please fill out the information below.
URL:https://chatham.ncabcboards.com/event/product-tasting-event/2024-11-07/
LOCATION:Chatham Crossings\, 11312 US HWY 15-501 N Suite 302\, Chapel Hill\, NC\, 27517
CATEGORIES:Chatham Crossings
END:VEVENT
BEGIN:VEVENT
DTSTART;TZID=America/New_York:20241108T150000
DTEND;TZID=America/New_York:20241108T180000
DTSTAMP:20260423T063755
CREATED:20221213T150644Z
LAST-MODIFIED:20251020T165345Z
UID:10005332-1731078000-1731088800@chatham.ncabcboards.com
SUMMARY:Chatham Crossings
DESCRIPTION:Chatham Crossings Product Tasting Event\nThank you for visiting our Booking Page to book your tasting dates! Once you submit your request\, a member of our leadership team will contact you within 48 hours to confirm. \nDownload the Guidelines and necessary paperwork that will need to be signed prior to any sampling events being approved.  Once we have received the request form for the event we will confirm product availability within Chatham County\, as we do not stock every code available to us.  If there’s a code that we do not carry it may take a few weeks to receive from LBB.  Sampling events will be conducted Thursday-Saturday in three hour sessions. They will be held from 3pm-6pm. \nClick here to Download the Guidelines and email back to: matt@chatham.ncabcboards.com \nApproval will be emailed back to you which is confirmation of your event. If product will need to be ordered from LBB\, a team member will contact you to make any necessary date changes. \n*If you would like to request a time slot with a starting time other than what the default option is for the day you are booking\, please enter that in the notes section and our booking manager will reach out to discuss. \nNow lets get started\, please fill out the information below.
URL:https://chatham.ncabcboards.com/event/product-tasting-event/2024-11-08/
LOCATION:Chatham Crossings\, 11312 US HWY 15-501 N Suite 302\, Chapel Hill\, NC\, 27517
CATEGORIES:Chatham Crossings
END:VEVENT
BEGIN:VEVENT
DTSTART;TZID=America/New_York:20241109T150000
DTEND;TZID=America/New_York:20241109T180000
DTSTAMP:20260423T063755
CREATED:20221213T150644Z
LAST-MODIFIED:20251020T165345Z
UID:10005333-1731164400-1731175200@chatham.ncabcboards.com
SUMMARY:Chatham Crossings
DESCRIPTION:Chatham Crossings Product Tasting Event\nThank you for visiting our Booking Page to book your tasting dates! Once you submit your request\, a member of our leadership team will contact you within 48 hours to confirm. \nDownload the Guidelines and necessary paperwork that will need to be signed prior to any sampling events being approved.  Once we have received the request form for the event we will confirm product availability within Chatham County\, as we do not stock every code available to us.  If there’s a code that we do not carry it may take a few weeks to receive from LBB.  Sampling events will be conducted Thursday-Saturday in three hour sessions. They will be held from 3pm-6pm. \nClick here to Download the Guidelines and email back to: matt@chatham.ncabcboards.com \nApproval will be emailed back to you which is confirmation of your event. If product will need to be ordered from LBB\, a team member will contact you to make any necessary date changes. \n*If you would like to request a time slot with a starting time other than what the default option is for the day you are booking\, please enter that in the notes section and our booking manager will reach out to discuss. \nNow lets get started\, please fill out the information below.
URL:https://chatham.ncabcboards.com/event/product-tasting-event/2024-11-09/
LOCATION:Chatham Crossings\, 11312 US HWY 15-501 N Suite 302\, Chapel Hill\, NC\, 27517
CATEGORIES:Chatham Crossings
END:VEVENT
BEGIN:VEVENT
DTSTART;TZID=America/New_York:20241114T150000
DTEND;TZID=America/New_York:20241114T180000
DTSTAMP:20260423T063755
CREATED:20221213T150644Z
LAST-MODIFIED:20251020T165345Z
UID:10005334-1731596400-1731607200@chatham.ncabcboards.com
SUMMARY:Chatham Crossings
DESCRIPTION:Chatham Crossings Product Tasting Event\nThank you for visiting our Booking Page to book your tasting dates! Once you submit your request\, a member of our leadership team will contact you within 48 hours to confirm. \nDownload the Guidelines and necessary paperwork that will need to be signed prior to any sampling events being approved.  Once we have received the request form for the event we will confirm product availability within Chatham County\, as we do not stock every code available to us.  If there’s a code that we do not carry it may take a few weeks to receive from LBB.  Sampling events will be conducted Thursday-Saturday in three hour sessions. They will be held from 3pm-6pm. \nClick here to Download the Guidelines and email back to: matt@chatham.ncabcboards.com \nApproval will be emailed back to you which is confirmation of your event. If product will need to be ordered from LBB\, a team member will contact you to make any necessary date changes. \n*If you would like to request a time slot with a starting time other than what the default option is for the day you are booking\, please enter that in the notes section and our booking manager will reach out to discuss. \nNow lets get started\, please fill out the information below.
URL:https://chatham.ncabcboards.com/event/product-tasting-event/2024-11-14/
LOCATION:Chatham Crossings\, 11312 US HWY 15-501 N Suite 302\, Chapel Hill\, NC\, 27517
CATEGORIES:Chatham Crossings
END:VEVENT
BEGIN:VEVENT
DTSTART;TZID=America/New_York:20241115T150000
DTEND;TZID=America/New_York:20241115T180000
DTSTAMP:20260423T063755
CREATED:20221213T150644Z
LAST-MODIFIED:20251020T165345Z
UID:10005335-1731682800-1731693600@chatham.ncabcboards.com
SUMMARY:Chatham Crossings
DESCRIPTION:Chatham Crossings Product Tasting Event\nThank you for visiting our Booking Page to book your tasting dates! Once you submit your request\, a member of our leadership team will contact you within 48 hours to confirm. \nDownload the Guidelines and necessary paperwork that will need to be signed prior to any sampling events being approved.  Once we have received the request form for the event we will confirm product availability within Chatham County\, as we do not stock every code available to us.  If there’s a code that we do not carry it may take a few weeks to receive from LBB.  Sampling events will be conducted Thursday-Saturday in three hour sessions. They will be held from 3pm-6pm. \nClick here to Download the Guidelines and email back to: matt@chatham.ncabcboards.com \nApproval will be emailed back to you which is confirmation of your event. If product will need to be ordered from LBB\, a team member will contact you to make any necessary date changes. \n*If you would like to request a time slot with a starting time other than what the default option is for the day you are booking\, please enter that in the notes section and our booking manager will reach out to discuss. \nNow lets get started\, please fill out the information below.
URL:https://chatham.ncabcboards.com/event/product-tasting-event/2024-11-15/
LOCATION:Chatham Crossings\, 11312 US HWY 15-501 N Suite 302\, Chapel Hill\, NC\, 27517
CATEGORIES:Chatham Crossings
END:VEVENT
BEGIN:VEVENT
DTSTART;TZID=America/New_York:20241116T150000
DTEND;TZID=America/New_York:20241116T180000
DTSTAMP:20260423T063755
CREATED:20221213T150644Z
LAST-MODIFIED:20251020T165345Z
UID:10005336-1731769200-1731780000@chatham.ncabcboards.com
SUMMARY:Chatham Crossings
DESCRIPTION:Chatham Crossings Product Tasting Event\nThank you for visiting our Booking Page to book your tasting dates! Once you submit your request\, a member of our leadership team will contact you within 48 hours to confirm. \nDownload the Guidelines and necessary paperwork that will need to be signed prior to any sampling events being approved.  Once we have received the request form for the event we will confirm product availability within Chatham County\, as we do not stock every code available to us.  If there’s a code that we do not carry it may take a few weeks to receive from LBB.  Sampling events will be conducted Thursday-Saturday in three hour sessions. They will be held from 3pm-6pm. \nClick here to Download the Guidelines and email back to: matt@chatham.ncabcboards.com \nApproval will be emailed back to you which is confirmation of your event. If product will need to be ordered from LBB\, a team member will contact you to make any necessary date changes. \n*If you would like to request a time slot with a starting time other than what the default option is for the day you are booking\, please enter that in the notes section and our booking manager will reach out to discuss. \nNow lets get started\, please fill out the information below.
URL:https://chatham.ncabcboards.com/event/product-tasting-event/2024-11-16/
LOCATION:Chatham Crossings\, 11312 US HWY 15-501 N Suite 302\, Chapel Hill\, NC\, 27517
CATEGORIES:Chatham Crossings
END:VEVENT
BEGIN:VEVENT
DTSTART;TZID=America/New_York:20241121T150000
DTEND;TZID=America/New_York:20241121T180000
DTSTAMP:20260423T063755
CREATED:20221213T150644Z
LAST-MODIFIED:20251020T165345Z
UID:10005337-1732201200-1732212000@chatham.ncabcboards.com
SUMMARY:Chatham Crossings
DESCRIPTION:Chatham Crossings Product Tasting Event\nThank you for visiting our Booking Page to book your tasting dates! Once you submit your request\, a member of our leadership team will contact you within 48 hours to confirm. \nDownload the Guidelines and necessary paperwork that will need to be signed prior to any sampling events being approved.  Once we have received the request form for the event we will confirm product availability within Chatham County\, as we do not stock every code available to us.  If there’s a code that we do not carry it may take a few weeks to receive from LBB.  Sampling events will be conducted Thursday-Saturday in three hour sessions. They will be held from 3pm-6pm. \nClick here to Download the Guidelines and email back to: matt@chatham.ncabcboards.com \nApproval will be emailed back to you which is confirmation of your event. If product will need to be ordered from LBB\, a team member will contact you to make any necessary date changes. \n*If you would like to request a time slot with a starting time other than what the default option is for the day you are booking\, please enter that in the notes section and our booking manager will reach out to discuss. \nNow lets get started\, please fill out the information below.
URL:https://chatham.ncabcboards.com/event/product-tasting-event/2024-11-21/
LOCATION:Chatham Crossings\, 11312 US HWY 15-501 N Suite 302\, Chapel Hill\, NC\, 27517
CATEGORIES:Chatham Crossings
END:VEVENT
BEGIN:VEVENT
DTSTART;TZID=America/New_York:20241122T150000
DTEND;TZID=America/New_York:20241122T180000
DTSTAMP:20260423T063755
CREATED:20221213T150644Z
LAST-MODIFIED:20251020T165345Z
UID:10005338-1732287600-1732298400@chatham.ncabcboards.com
SUMMARY:Chatham Crossings
DESCRIPTION:Chatham Crossings Product Tasting Event\nThank you for visiting our Booking Page to book your tasting dates! Once you submit your request\, a member of our leadership team will contact you within 48 hours to confirm. \nDownload the Guidelines and necessary paperwork that will need to be signed prior to any sampling events being approved.  Once we have received the request form for the event we will confirm product availability within Chatham County\, as we do not stock every code available to us.  If there’s a code that we do not carry it may take a few weeks to receive from LBB.  Sampling events will be conducted Thursday-Saturday in three hour sessions. They will be held from 3pm-6pm. \nClick here to Download the Guidelines and email back to: matt@chatham.ncabcboards.com \nApproval will be emailed back to you which is confirmation of your event. If product will need to be ordered from LBB\, a team member will contact you to make any necessary date changes. \n*If you would like to request a time slot with a starting time other than what the default option is for the day you are booking\, please enter that in the notes section and our booking manager will reach out to discuss. \nNow lets get started\, please fill out the information below.
URL:https://chatham.ncabcboards.com/event/product-tasting-event/2024-11-22/
LOCATION:Chatham Crossings\, 11312 US HWY 15-501 N Suite 302\, Chapel Hill\, NC\, 27517
CATEGORIES:Chatham Crossings
END:VEVENT
BEGIN:VEVENT
DTSTART;TZID=America/New_York:20241123T150000
DTEND;TZID=America/New_York:20241123T180000
DTSTAMP:20260423T063755
CREATED:20221213T150644Z
LAST-MODIFIED:20251020T165345Z
UID:10005339-1732374000-1732384800@chatham.ncabcboards.com
SUMMARY:Chatham Crossings
DESCRIPTION:Chatham Crossings Product Tasting Event\nThank you for visiting our Booking Page to book your tasting dates! Once you submit your request\, a member of our leadership team will contact you within 48 hours to confirm. \nDownload the Guidelines and necessary paperwork that will need to be signed prior to any sampling events being approved.  Once we have received the request form for the event we will confirm product availability within Chatham County\, as we do not stock every code available to us.  If there’s a code that we do not carry it may take a few weeks to receive from LBB.  Sampling events will be conducted Thursday-Saturday in three hour sessions. They will be held from 3pm-6pm. \nClick here to Download the Guidelines and email back to: matt@chatham.ncabcboards.com \nApproval will be emailed back to you which is confirmation of your event. If product will need to be ordered from LBB\, a team member will contact you to make any necessary date changes. \n*If you would like to request a time slot with a starting time other than what the default option is for the day you are booking\, please enter that in the notes section and our booking manager will reach out to discuss. \nNow lets get started\, please fill out the information below.
URL:https://chatham.ncabcboards.com/event/product-tasting-event/2024-11-23/
LOCATION:Chatham Crossings\, 11312 US HWY 15-501 N Suite 302\, Chapel Hill\, NC\, 27517
CATEGORIES:Chatham Crossings
END:VEVENT
BEGIN:VEVENT
DTSTART;TZID=America/New_York:20241128T150000
DTEND;TZID=America/New_York:20241128T180000
DTSTAMP:20260423T063755
CREATED:20221213T150644Z
LAST-MODIFIED:20251020T165345Z
UID:10005340-1732806000-1732816800@chatham.ncabcboards.com
SUMMARY:Chatham Crossings
DESCRIPTION:Chatham Crossings Product Tasting Event\nThank you for visiting our Booking Page to book your tasting dates! Once you submit your request\, a member of our leadership team will contact you within 48 hours to confirm. \nDownload the Guidelines and necessary paperwork that will need to be signed prior to any sampling events being approved.  Once we have received the request form for the event we will confirm product availability within Chatham County\, as we do not stock every code available to us.  If there’s a code that we do not carry it may take a few weeks to receive from LBB.  Sampling events will be conducted Thursday-Saturday in three hour sessions. They will be held from 3pm-6pm. \nClick here to Download the Guidelines and email back to: matt@chatham.ncabcboards.com \nApproval will be emailed back to you which is confirmation of your event. If product will need to be ordered from LBB\, a team member will contact you to make any necessary date changes. \n*If you would like to request a time slot with a starting time other than what the default option is for the day you are booking\, please enter that in the notes section and our booking manager will reach out to discuss. \nNow lets get started\, please fill out the information below.
URL:https://chatham.ncabcboards.com/event/product-tasting-event/2024-11-28/
LOCATION:Chatham Crossings\, 11312 US HWY 15-501 N Suite 302\, Chapel Hill\, NC\, 27517
CATEGORIES:Chatham Crossings
END:VEVENT
BEGIN:VEVENT
DTSTART;TZID=America/New_York:20241129T150000
DTEND;TZID=America/New_York:20241129T180000
DTSTAMP:20260423T063755
CREATED:20221213T150644Z
LAST-MODIFIED:20251020T165345Z
UID:10005341-1732892400-1732903200@chatham.ncabcboards.com
SUMMARY:Chatham Crossings
DESCRIPTION:Chatham Crossings Product Tasting Event\nThank you for visiting our Booking Page to book your tasting dates! Once you submit your request\, a member of our leadership team will contact you within 48 hours to confirm. \nDownload the Guidelines and necessary paperwork that will need to be signed prior to any sampling events being approved.  Once we have received the request form for the event we will confirm product availability within Chatham County\, as we do not stock every code available to us.  If there’s a code that we do not carry it may take a few weeks to receive from LBB.  Sampling events will be conducted Thursday-Saturday in three hour sessions. They will be held from 3pm-6pm. \nClick here to Download the Guidelines and email back to: matt@chatham.ncabcboards.com \nApproval will be emailed back to you which is confirmation of your event. If product will need to be ordered from LBB\, a team member will contact you to make any necessary date changes. \n*If you would like to request a time slot with a starting time other than what the default option is for the day you are booking\, please enter that in the notes section and our booking manager will reach out to discuss. \nNow lets get started\, please fill out the information below.
URL:https://chatham.ncabcboards.com/event/product-tasting-event/2024-11-29/
LOCATION:Chatham Crossings\, 11312 US HWY 15-501 N Suite 302\, Chapel Hill\, NC\, 27517
CATEGORIES:Chatham Crossings
END:VEVENT
BEGIN:VEVENT
DTSTART;TZID=America/New_York:20241130T150000
DTEND;TZID=America/New_York:20241130T180000
DTSTAMP:20260423T063755
CREATED:20221213T150644Z
LAST-MODIFIED:20251020T165345Z
UID:10005342-1732978800-1732989600@chatham.ncabcboards.com
SUMMARY:Chatham Crossings
DESCRIPTION:Chatham Crossings Product Tasting Event\nThank you for visiting our Booking Page to book your tasting dates! Once you submit your request\, a member of our leadership team will contact you within 48 hours to confirm. \nDownload the Guidelines and necessary paperwork that will need to be signed prior to any sampling events being approved.  Once we have received the request form for the event we will confirm product availability within Chatham County\, as we do not stock every code available to us.  If there’s a code that we do not carry it may take a few weeks to receive from LBB.  Sampling events will be conducted Thursday-Saturday in three hour sessions. They will be held from 3pm-6pm. \nClick here to Download the Guidelines and email back to: matt@chatham.ncabcboards.com \nApproval will be emailed back to you which is confirmation of your event. If product will need to be ordered from LBB\, a team member will contact you to make any necessary date changes. \n*If you would like to request a time slot with a starting time other than what the default option is for the day you are booking\, please enter that in the notes section and our booking manager will reach out to discuss. \nNow lets get started\, please fill out the information below.
URL:https://chatham.ncabcboards.com/event/product-tasting-event/2024-11-30/
LOCATION:Chatham Crossings\, 11312 US HWY 15-501 N Suite 302\, Chapel Hill\, NC\, 27517
CATEGORIES:Chatham Crossings
END:VEVENT
END:VCALENDAR