BEGIN:VCALENDAR
VERSION:2.0
PRODID:-//Chatham County NC ABC Board - ECPv6.15.14//NONSGML v1.0//EN
CALSCALE:GREGORIAN
METHOD:PUBLISH
X-WR-CALNAME:Chatham County NC ABC Board
X-ORIGINAL-URL:https://chatham.ncabcboards.com
X-WR-CALDESC:Events for Chatham County NC ABC Board
REFRESH-INTERVAL;VALUE=DURATION:PT1H
X-Robots-Tag:noindex
X-PUBLISHED-TTL:PT1H
BEGIN:VTIMEZONE
TZID:America/New_York
BEGIN:DAYLIGHT
TZOFFSETFROM:-0500
TZOFFSETTO:-0400
TZNAME:EDT
DTSTART:20230312T070000
END:DAYLIGHT
BEGIN:STANDARD
TZOFFSETFROM:-0400
TZOFFSETTO:-0500
TZNAME:EST
DTSTART:20231105T060000
END:STANDARD
BEGIN:DAYLIGHT
TZOFFSETFROM:-0500
TZOFFSETTO:-0400
TZNAME:EDT
DTSTART:20240310T070000
END:DAYLIGHT
BEGIN:STANDARD
TZOFFSETFROM:-0400
TZOFFSETTO:-0500
TZNAME:EST
DTSTART:20241103T060000
END:STANDARD
BEGIN:DAYLIGHT
TZOFFSETFROM:-0500
TZOFFSETTO:-0400
TZNAME:EDT
DTSTART:20250309T070000
END:DAYLIGHT
BEGIN:STANDARD
TZOFFSETFROM:-0400
TZOFFSETTO:-0500
TZNAME:EST
DTSTART:20251102T060000
END:STANDARD
END:VTIMEZONE
BEGIN:VEVENT
DTSTART;TZID=America/New_York:20241003T150000
DTEND;TZID=America/New_York:20241003T180000
DTSTAMP:20260425T061917
CREATED:20221213T150644Z
LAST-MODIFIED:20251020T165345Z
UID:10005316-1727967600-1727978400@chatham.ncabcboards.com
SUMMARY:Chatham Crossings
DESCRIPTION:Chatham Crossings Product Tasting Event\nThank you for visiting our Booking Page to book your tasting dates! Once you submit your request\, a member of our leadership team will contact you within 48 hours to confirm. \nDownload the Guidelines and necessary paperwork that will need to be signed prior to any sampling events being approved.  Once we have received the request form for the event we will confirm product availability within Chatham County\, as we do not stock every code available to us.  If there’s a code that we do not carry it may take a few weeks to receive from LBB.  Sampling events will be conducted Thursday-Saturday in three hour sessions. They will be held from 3pm-6pm. \nClick here to Download the Guidelines and email back to: matt@chatham.ncabcboards.com \nApproval will be emailed back to you which is confirmation of your event. If product will need to be ordered from LBB\, a team member will contact you to make any necessary date changes. \n*If you would like to request a time slot with a starting time other than what the default option is for the day you are booking\, please enter that in the notes section and our booking manager will reach out to discuss. \nNow lets get started\, please fill out the information below.
URL:https://chatham.ncabcboards.com/event/product-tasting-event/2024-10-03/
LOCATION:Chatham Crossings\, 11312 US HWY 15-501 N Suite 302\, Chapel Hill\, NC\, 27517
CATEGORIES:Chatham Crossings
END:VEVENT
BEGIN:VEVENT
DTSTART;TZID=America/New_York:20241004T150000
DTEND;TZID=America/New_York:20241004T180000
DTSTAMP:20260425T061917
CREATED:20221213T150644Z
LAST-MODIFIED:20251020T165345Z
UID:10005317-1728054000-1728064800@chatham.ncabcboards.com
SUMMARY:Chatham Crossings
DESCRIPTION:Chatham Crossings Product Tasting Event\nThank you for visiting our Booking Page to book your tasting dates! Once you submit your request\, a member of our leadership team will contact you within 48 hours to confirm. \nDownload the Guidelines and necessary paperwork that will need to be signed prior to any sampling events being approved.  Once we have received the request form for the event we will confirm product availability within Chatham County\, as we do not stock every code available to us.  If there’s a code that we do not carry it may take a few weeks to receive from LBB.  Sampling events will be conducted Thursday-Saturday in three hour sessions. They will be held from 3pm-6pm. \nClick here to Download the Guidelines and email back to: matt@chatham.ncabcboards.com \nApproval will be emailed back to you which is confirmation of your event. If product will need to be ordered from LBB\, a team member will contact you to make any necessary date changes. \n*If you would like to request a time slot with a starting time other than what the default option is for the day you are booking\, please enter that in the notes section and our booking manager will reach out to discuss. \nNow lets get started\, please fill out the information below.
URL:https://chatham.ncabcboards.com/event/product-tasting-event/2024-10-04/
LOCATION:Chatham Crossings\, 11312 US HWY 15-501 N Suite 302\, Chapel Hill\, NC\, 27517
CATEGORIES:Chatham Crossings
END:VEVENT
BEGIN:VEVENT
DTSTART;TZID=America/New_York:20241005T150000
DTEND;TZID=America/New_York:20241005T180000
DTSTAMP:20260425T061917
CREATED:20221213T150644Z
LAST-MODIFIED:20251020T165345Z
UID:10005318-1728140400-1728151200@chatham.ncabcboards.com
SUMMARY:Chatham Crossings
DESCRIPTION:Chatham Crossings Product Tasting Event\nThank you for visiting our Booking Page to book your tasting dates! Once you submit your request\, a member of our leadership team will contact you within 48 hours to confirm. \nDownload the Guidelines and necessary paperwork that will need to be signed prior to any sampling events being approved.  Once we have received the request form for the event we will confirm product availability within Chatham County\, as we do not stock every code available to us.  If there’s a code that we do not carry it may take a few weeks to receive from LBB.  Sampling events will be conducted Thursday-Saturday in three hour sessions. They will be held from 3pm-6pm. \nClick here to Download the Guidelines and email back to: matt@chatham.ncabcboards.com \nApproval will be emailed back to you which is confirmation of your event. If product will need to be ordered from LBB\, a team member will contact you to make any necessary date changes. \n*If you would like to request a time slot with a starting time other than what the default option is for the day you are booking\, please enter that in the notes section and our booking manager will reach out to discuss. \nNow lets get started\, please fill out the information below.
URL:https://chatham.ncabcboards.com/event/product-tasting-event/2024-10-05/
LOCATION:Chatham Crossings\, 11312 US HWY 15-501 N Suite 302\, Chapel Hill\, NC\, 27517
CATEGORIES:Chatham Crossings
END:VEVENT
BEGIN:VEVENT
DTSTART;TZID=America/New_York:20241010T150000
DTEND;TZID=America/New_York:20241010T180000
DTSTAMP:20260425T061917
CREATED:20221213T150644Z
LAST-MODIFIED:20251020T165345Z
UID:10005319-1728572400-1728583200@chatham.ncabcboards.com
SUMMARY:Chatham Crossings
DESCRIPTION:Chatham Crossings Product Tasting Event\nThank you for visiting our Booking Page to book your tasting dates! Once you submit your request\, a member of our leadership team will contact you within 48 hours to confirm. \nDownload the Guidelines and necessary paperwork that will need to be signed prior to any sampling events being approved.  Once we have received the request form for the event we will confirm product availability within Chatham County\, as we do not stock every code available to us.  If there’s a code that we do not carry it may take a few weeks to receive from LBB.  Sampling events will be conducted Thursday-Saturday in three hour sessions. They will be held from 3pm-6pm. \nClick here to Download the Guidelines and email back to: matt@chatham.ncabcboards.com \nApproval will be emailed back to you which is confirmation of your event. If product will need to be ordered from LBB\, a team member will contact you to make any necessary date changes. \n*If you would like to request a time slot with a starting time other than what the default option is for the day you are booking\, please enter that in the notes section and our booking manager will reach out to discuss. \nNow lets get started\, please fill out the information below.
URL:https://chatham.ncabcboards.com/event/product-tasting-event/2024-10-10/
LOCATION:Chatham Crossings\, 11312 US HWY 15-501 N Suite 302\, Chapel Hill\, NC\, 27517
CATEGORIES:Chatham Crossings
END:VEVENT
BEGIN:VEVENT
DTSTART;TZID=America/New_York:20241011T150000
DTEND;TZID=America/New_York:20241011T180000
DTSTAMP:20260425T061917
CREATED:20221213T150644Z
LAST-MODIFIED:20251020T165345Z
UID:10005320-1728658800-1728669600@chatham.ncabcboards.com
SUMMARY:Chatham Crossings
DESCRIPTION:Chatham Crossings Product Tasting Event\nThank you for visiting our Booking Page to book your tasting dates! Once you submit your request\, a member of our leadership team will contact you within 48 hours to confirm. \nDownload the Guidelines and necessary paperwork that will need to be signed prior to any sampling events being approved.  Once we have received the request form for the event we will confirm product availability within Chatham County\, as we do not stock every code available to us.  If there’s a code that we do not carry it may take a few weeks to receive from LBB.  Sampling events will be conducted Thursday-Saturday in three hour sessions. They will be held from 3pm-6pm. \nClick here to Download the Guidelines and email back to: matt@chatham.ncabcboards.com \nApproval will be emailed back to you which is confirmation of your event. If product will need to be ordered from LBB\, a team member will contact you to make any necessary date changes. \n*If you would like to request a time slot with a starting time other than what the default option is for the day you are booking\, please enter that in the notes section and our booking manager will reach out to discuss. \nNow lets get started\, please fill out the information below.
URL:https://chatham.ncabcboards.com/event/product-tasting-event/2024-10-11/
LOCATION:Chatham Crossings\, 11312 US HWY 15-501 N Suite 302\, Chapel Hill\, NC\, 27517
CATEGORIES:Chatham Crossings
END:VEVENT
BEGIN:VEVENT
DTSTART;TZID=America/New_York:20241012T150000
DTEND;TZID=America/New_York:20241012T180000
DTSTAMP:20260425T061917
CREATED:20221213T150644Z
LAST-MODIFIED:20251020T165345Z
UID:10005321-1728745200-1728756000@chatham.ncabcboards.com
SUMMARY:Chatham Crossings
DESCRIPTION:Chatham Crossings Product Tasting Event\nThank you for visiting our Booking Page to book your tasting dates! Once you submit your request\, a member of our leadership team will contact you within 48 hours to confirm. \nDownload the Guidelines and necessary paperwork that will need to be signed prior to any sampling events being approved.  Once we have received the request form for the event we will confirm product availability within Chatham County\, as we do not stock every code available to us.  If there’s a code that we do not carry it may take a few weeks to receive from LBB.  Sampling events will be conducted Thursday-Saturday in three hour sessions. They will be held from 3pm-6pm. \nClick here to Download the Guidelines and email back to: matt@chatham.ncabcboards.com \nApproval will be emailed back to you which is confirmation of your event. If product will need to be ordered from LBB\, a team member will contact you to make any necessary date changes. \n*If you would like to request a time slot with a starting time other than what the default option is for the day you are booking\, please enter that in the notes section and our booking manager will reach out to discuss. \nNow lets get started\, please fill out the information below.
URL:https://chatham.ncabcboards.com/event/product-tasting-event/2024-10-12/
LOCATION:Chatham Crossings\, 11312 US HWY 15-501 N Suite 302\, Chapel Hill\, NC\, 27517
CATEGORIES:Chatham Crossings
END:VEVENT
BEGIN:VEVENT
DTSTART;TZID=America/New_York:20241017T150000
DTEND;TZID=America/New_York:20241017T180000
DTSTAMP:20260425T061917
CREATED:20221213T150644Z
LAST-MODIFIED:20251020T165345Z
UID:10005322-1729177200-1729188000@chatham.ncabcboards.com
SUMMARY:Chatham Crossings
DESCRIPTION:Chatham Crossings Product Tasting Event\nThank you for visiting our Booking Page to book your tasting dates! Once you submit your request\, a member of our leadership team will contact you within 48 hours to confirm. \nDownload the Guidelines and necessary paperwork that will need to be signed prior to any sampling events being approved.  Once we have received the request form for the event we will confirm product availability within Chatham County\, as we do not stock every code available to us.  If there’s a code that we do not carry it may take a few weeks to receive from LBB.  Sampling events will be conducted Thursday-Saturday in three hour sessions. They will be held from 3pm-6pm. \nClick here to Download the Guidelines and email back to: matt@chatham.ncabcboards.com \nApproval will be emailed back to you which is confirmation of your event. If product will need to be ordered from LBB\, a team member will contact you to make any necessary date changes. \n*If you would like to request a time slot with a starting time other than what the default option is for the day you are booking\, please enter that in the notes section and our booking manager will reach out to discuss. \nNow lets get started\, please fill out the information below.
URL:https://chatham.ncabcboards.com/event/product-tasting-event/2024-10-17/
LOCATION:Chatham Crossings\, 11312 US HWY 15-501 N Suite 302\, Chapel Hill\, NC\, 27517
CATEGORIES:Chatham Crossings
END:VEVENT
BEGIN:VEVENT
DTSTART;TZID=America/New_York:20241018T150000
DTEND;TZID=America/New_York:20241018T180000
DTSTAMP:20260425T061917
CREATED:20221213T150644Z
LAST-MODIFIED:20251020T165345Z
UID:10005323-1729263600-1729274400@chatham.ncabcboards.com
SUMMARY:Chatham Crossings
DESCRIPTION:Chatham Crossings Product Tasting Event\nThank you for visiting our Booking Page to book your tasting dates! Once you submit your request\, a member of our leadership team will contact you within 48 hours to confirm. \nDownload the Guidelines and necessary paperwork that will need to be signed prior to any sampling events being approved.  Once we have received the request form for the event we will confirm product availability within Chatham County\, as we do not stock every code available to us.  If there’s a code that we do not carry it may take a few weeks to receive from LBB.  Sampling events will be conducted Thursday-Saturday in three hour sessions. They will be held from 3pm-6pm. \nClick here to Download the Guidelines and email back to: matt@chatham.ncabcboards.com \nApproval will be emailed back to you which is confirmation of your event. If product will need to be ordered from LBB\, a team member will contact you to make any necessary date changes. \n*If you would like to request a time slot with a starting time other than what the default option is for the day you are booking\, please enter that in the notes section and our booking manager will reach out to discuss. \nNow lets get started\, please fill out the information below.
URL:https://chatham.ncabcboards.com/event/product-tasting-event/2024-10-18/
LOCATION:Chatham Crossings\, 11312 US HWY 15-501 N Suite 302\, Chapel Hill\, NC\, 27517
CATEGORIES:Chatham Crossings
END:VEVENT
BEGIN:VEVENT
DTSTART;TZID=America/New_York:20241019T150000
DTEND;TZID=America/New_York:20241019T180000
DTSTAMP:20260425T061917
CREATED:20221213T150644Z
LAST-MODIFIED:20251020T165345Z
UID:10005324-1729350000-1729360800@chatham.ncabcboards.com
SUMMARY:Chatham Crossings
DESCRIPTION:Chatham Crossings Product Tasting Event\nThank you for visiting our Booking Page to book your tasting dates! Once you submit your request\, a member of our leadership team will contact you within 48 hours to confirm. \nDownload the Guidelines and necessary paperwork that will need to be signed prior to any sampling events being approved.  Once we have received the request form for the event we will confirm product availability within Chatham County\, as we do not stock every code available to us.  If there’s a code that we do not carry it may take a few weeks to receive from LBB.  Sampling events will be conducted Thursday-Saturday in three hour sessions. They will be held from 3pm-6pm. \nClick here to Download the Guidelines and email back to: matt@chatham.ncabcboards.com \nApproval will be emailed back to you which is confirmation of your event. If product will need to be ordered from LBB\, a team member will contact you to make any necessary date changes. \n*If you would like to request a time slot with a starting time other than what the default option is for the day you are booking\, please enter that in the notes section and our booking manager will reach out to discuss. \nNow lets get started\, please fill out the information below.
URL:https://chatham.ncabcboards.com/event/product-tasting-event/2024-10-19/
LOCATION:Chatham Crossings\, 11312 US HWY 15-501 N Suite 302\, Chapel Hill\, NC\, 27517
CATEGORIES:Chatham Crossings
END:VEVENT
BEGIN:VEVENT
DTSTART;TZID=America/New_York:20241024T150000
DTEND;TZID=America/New_York:20241024T180000
DTSTAMP:20260425T061917
CREATED:20221213T150644Z
LAST-MODIFIED:20251020T165345Z
UID:10005325-1729782000-1729792800@chatham.ncabcboards.com
SUMMARY:Chatham Crossings
DESCRIPTION:Chatham Crossings Product Tasting Event\nThank you for visiting our Booking Page to book your tasting dates! Once you submit your request\, a member of our leadership team will contact you within 48 hours to confirm. \nDownload the Guidelines and necessary paperwork that will need to be signed prior to any sampling events being approved.  Once we have received the request form for the event we will confirm product availability within Chatham County\, as we do not stock every code available to us.  If there’s a code that we do not carry it may take a few weeks to receive from LBB.  Sampling events will be conducted Thursday-Saturday in three hour sessions. They will be held from 3pm-6pm. \nClick here to Download the Guidelines and email back to: matt@chatham.ncabcboards.com \nApproval will be emailed back to you which is confirmation of your event. If product will need to be ordered from LBB\, a team member will contact you to make any necessary date changes. \n*If you would like to request a time slot with a starting time other than what the default option is for the day you are booking\, please enter that in the notes section and our booking manager will reach out to discuss. \nNow lets get started\, please fill out the information below.
URL:https://chatham.ncabcboards.com/event/product-tasting-event/2024-10-24/
LOCATION:Chatham Crossings\, 11312 US HWY 15-501 N Suite 302\, Chapel Hill\, NC\, 27517
CATEGORIES:Chatham Crossings
END:VEVENT
BEGIN:VEVENT
DTSTART;TZID=America/New_York:20241025T150000
DTEND;TZID=America/New_York:20241025T180000
DTSTAMP:20260425T061917
CREATED:20221213T150644Z
LAST-MODIFIED:20251020T165345Z
UID:10005326-1729868400-1729879200@chatham.ncabcboards.com
SUMMARY:Chatham Crossings
DESCRIPTION:Chatham Crossings Product Tasting Event\nThank you for visiting our Booking Page to book your tasting dates! Once you submit your request\, a member of our leadership team will contact you within 48 hours to confirm. \nDownload the Guidelines and necessary paperwork that will need to be signed prior to any sampling events being approved.  Once we have received the request form for the event we will confirm product availability within Chatham County\, as we do not stock every code available to us.  If there’s a code that we do not carry it may take a few weeks to receive from LBB.  Sampling events will be conducted Thursday-Saturday in three hour sessions. They will be held from 3pm-6pm. \nClick here to Download the Guidelines and email back to: matt@chatham.ncabcboards.com \nApproval will be emailed back to you which is confirmation of your event. If product will need to be ordered from LBB\, a team member will contact you to make any necessary date changes. \n*If you would like to request a time slot with a starting time other than what the default option is for the day you are booking\, please enter that in the notes section and our booking manager will reach out to discuss. \nNow lets get started\, please fill out the information below.
URL:https://chatham.ncabcboards.com/event/product-tasting-event/2024-10-25/
LOCATION:Chatham Crossings\, 11312 US HWY 15-501 N Suite 302\, Chapel Hill\, NC\, 27517
CATEGORIES:Chatham Crossings
END:VEVENT
BEGIN:VEVENT
DTSTART;TZID=America/New_York:20241026T150000
DTEND;TZID=America/New_York:20241026T180000
DTSTAMP:20260425T061917
CREATED:20221213T150644Z
LAST-MODIFIED:20251020T165345Z
UID:10005327-1729954800-1729965600@chatham.ncabcboards.com
SUMMARY:Chatham Crossings
DESCRIPTION:Chatham Crossings Product Tasting Event\nThank you for visiting our Booking Page to book your tasting dates! Once you submit your request\, a member of our leadership team will contact you within 48 hours to confirm. \nDownload the Guidelines and necessary paperwork that will need to be signed prior to any sampling events being approved.  Once we have received the request form for the event we will confirm product availability within Chatham County\, as we do not stock every code available to us.  If there’s a code that we do not carry it may take a few weeks to receive from LBB.  Sampling events will be conducted Thursday-Saturday in three hour sessions. They will be held from 3pm-6pm. \nClick here to Download the Guidelines and email back to: matt@chatham.ncabcboards.com \nApproval will be emailed back to you which is confirmation of your event. If product will need to be ordered from LBB\, a team member will contact you to make any necessary date changes. \n*If you would like to request a time slot with a starting time other than what the default option is for the day you are booking\, please enter that in the notes section and our booking manager will reach out to discuss. \nNow lets get started\, please fill out the information below.
URL:https://chatham.ncabcboards.com/event/product-tasting-event/2024-10-26/
LOCATION:Chatham Crossings\, 11312 US HWY 15-501 N Suite 302\, Chapel Hill\, NC\, 27517
CATEGORIES:Chatham Crossings
END:VEVENT
BEGIN:VEVENT
DTSTART;TZID=America/New_York:20241031T150000
DTEND;TZID=America/New_York:20241031T180000
DTSTAMP:20260425T061917
CREATED:20221213T150644Z
LAST-MODIFIED:20251020T165345Z
UID:10005328-1730386800-1730397600@chatham.ncabcboards.com
SUMMARY:Chatham Crossings
DESCRIPTION:Chatham Crossings Product Tasting Event\nThank you for visiting our Booking Page to book your tasting dates! Once you submit your request\, a member of our leadership team will contact you within 48 hours to confirm. \nDownload the Guidelines and necessary paperwork that will need to be signed prior to any sampling events being approved.  Once we have received the request form for the event we will confirm product availability within Chatham County\, as we do not stock every code available to us.  If there’s a code that we do not carry it may take a few weeks to receive from LBB.  Sampling events will be conducted Thursday-Saturday in three hour sessions. They will be held from 3pm-6pm. \nClick here to Download the Guidelines and email back to: matt@chatham.ncabcboards.com \nApproval will be emailed back to you which is confirmation of your event. If product will need to be ordered from LBB\, a team member will contact you to make any necessary date changes. \n*If you would like to request a time slot with a starting time other than what the default option is for the day you are booking\, please enter that in the notes section and our booking manager will reach out to discuss. \nNow lets get started\, please fill out the information below.
URL:https://chatham.ncabcboards.com/event/product-tasting-event/2024-10-31/
LOCATION:Chatham Crossings\, 11312 US HWY 15-501 N Suite 302\, Chapel Hill\, NC\, 27517
CATEGORIES:Chatham Crossings
END:VEVENT
END:VCALENDAR