BEGIN:VCALENDAR
VERSION:2.0
PRODID:-//Chatham County NC ABC Board - ECPv6.15.14//NONSGML v1.0//EN
CALSCALE:GREGORIAN
METHOD:PUBLISH
X-ORIGINAL-URL:https://chatham.ncabcboards.com
X-WR-CALDESC:Events for Chatham County NC ABC Board
REFRESH-INTERVAL;VALUE=DURATION:PT1H
X-Robots-Tag:noindex
X-PUBLISHED-TTL:PT1H
BEGIN:VTIMEZONE
TZID:America/New_York
BEGIN:DAYLIGHT
TZOFFSETFROM:-0500
TZOFFSETTO:-0400
TZNAME:EDT
DTSTART:20230312T070000
END:DAYLIGHT
BEGIN:STANDARD
TZOFFSETFROM:-0400
TZOFFSETTO:-0500
TZNAME:EST
DTSTART:20231105T060000
END:STANDARD
BEGIN:DAYLIGHT
TZOFFSETFROM:-0500
TZOFFSETTO:-0400
TZNAME:EDT
DTSTART:20240310T070000
END:DAYLIGHT
BEGIN:STANDARD
TZOFFSETFROM:-0400
TZOFFSETTO:-0500
TZNAME:EST
DTSTART:20241103T060000
END:STANDARD
BEGIN:DAYLIGHT
TZOFFSETFROM:-0500
TZOFFSETTO:-0400
TZNAME:EDT
DTSTART:20250309T070000
END:DAYLIGHT
BEGIN:STANDARD
TZOFFSETFROM:-0400
TZOFFSETTO:-0500
TZNAME:EST
DTSTART:20251102T060000
END:STANDARD
END:VTIMEZONE
BEGIN:VEVENT
DTSTART;TZID=America/New_York:20240905T150000
DTEND;TZID=America/New_York:20240905T180000
DTSTAMP:20260425T074537
CREATED:20221213T150644Z
LAST-MODIFIED:20251020T165345Z
UID:10005304-1725548400-1725559200@chatham.ncabcboards.com
SUMMARY:Chatham Crossings
DESCRIPTION:Chatham Crossings Product Tasting Event\nThank you for visiting our Booking Page to book your tasting dates! Once you submit your request\, a member of our leadership team will contact you within 48 hours to confirm. \nDownload the Guidelines and necessary paperwork that will need to be signed prior to any sampling events being approved.  Once we have received the request form for the event we will confirm product availability within Chatham County\, as we do not stock every code available to us.  If there’s a code that we do not carry it may take a few weeks to receive from LBB.  Sampling events will be conducted Thursday-Saturday in three hour sessions. They will be held from 3pm-6pm. \nClick here to Download the Guidelines and email back to: matt@chatham.ncabcboards.com \nApproval will be emailed back to you which is confirmation of your event. If product will need to be ordered from LBB\, a team member will contact you to make any necessary date changes. \n*If you would like to request a time slot with a starting time other than what the default option is for the day you are booking\, please enter that in the notes section and our booking manager will reach out to discuss. \nNow lets get started\, please fill out the information below.
URL:https://chatham.ncabcboards.com/event/product-tasting-event/2024-09-05/
LOCATION:Chatham Crossings\, 11312 US HWY 15-501 N Suite 302\, Chapel Hill\, NC\, 27517
CATEGORIES:Chatham Crossings
END:VEVENT
BEGIN:VEVENT
DTSTART;TZID=America/New_York:20240906T150000
DTEND;TZID=America/New_York:20240906T180000
DTSTAMP:20260425T074537
CREATED:20221213T150644Z
LAST-MODIFIED:20251020T165345Z
UID:10005305-1725634800-1725645600@chatham.ncabcboards.com
SUMMARY:Chatham Crossings
DESCRIPTION:Chatham Crossings Product Tasting Event\nThank you for visiting our Booking Page to book your tasting dates! Once you submit your request\, a member of our leadership team will contact you within 48 hours to confirm. \nDownload the Guidelines and necessary paperwork that will need to be signed prior to any sampling events being approved.  Once we have received the request form for the event we will confirm product availability within Chatham County\, as we do not stock every code available to us.  If there’s a code that we do not carry it may take a few weeks to receive from LBB.  Sampling events will be conducted Thursday-Saturday in three hour sessions. They will be held from 3pm-6pm. \nClick here to Download the Guidelines and email back to: matt@chatham.ncabcboards.com \nApproval will be emailed back to you which is confirmation of your event. If product will need to be ordered from LBB\, a team member will contact you to make any necessary date changes. \n*If you would like to request a time slot with a starting time other than what the default option is for the day you are booking\, please enter that in the notes section and our booking manager will reach out to discuss. \nNow lets get started\, please fill out the information below.
URL:https://chatham.ncabcboards.com/event/product-tasting-event/2024-09-06/
LOCATION:Chatham Crossings\, 11312 US HWY 15-501 N Suite 302\, Chapel Hill\, NC\, 27517
CATEGORIES:Chatham Crossings
END:VEVENT
BEGIN:VEVENT
DTSTART;TZID=America/New_York:20240907T150000
DTEND;TZID=America/New_York:20240907T180000
DTSTAMP:20260425T074537
CREATED:20221213T150644Z
LAST-MODIFIED:20251020T165345Z
UID:10005306-1725721200-1725732000@chatham.ncabcboards.com
SUMMARY:Chatham Crossings
DESCRIPTION:Chatham Crossings Product Tasting Event\nThank you for visiting our Booking Page to book your tasting dates! Once you submit your request\, a member of our leadership team will contact you within 48 hours to confirm. \nDownload the Guidelines and necessary paperwork that will need to be signed prior to any sampling events being approved.  Once we have received the request form for the event we will confirm product availability within Chatham County\, as we do not stock every code available to us.  If there’s a code that we do not carry it may take a few weeks to receive from LBB.  Sampling events will be conducted Thursday-Saturday in three hour sessions. They will be held from 3pm-6pm. \nClick here to Download the Guidelines and email back to: matt@chatham.ncabcboards.com \nApproval will be emailed back to you which is confirmation of your event. If product will need to be ordered from LBB\, a team member will contact you to make any necessary date changes. \n*If you would like to request a time slot with a starting time other than what the default option is for the day you are booking\, please enter that in the notes section and our booking manager will reach out to discuss. \nNow lets get started\, please fill out the information below.
URL:https://chatham.ncabcboards.com/event/product-tasting-event/2024-09-07/
LOCATION:Chatham Crossings\, 11312 US HWY 15-501 N Suite 302\, Chapel Hill\, NC\, 27517
CATEGORIES:Chatham Crossings
END:VEVENT
BEGIN:VEVENT
DTSTART;TZID=America/New_York:20240912T150000
DTEND;TZID=America/New_York:20240912T180000
DTSTAMP:20260425T074537
CREATED:20221213T150644Z
LAST-MODIFIED:20251020T165345Z
UID:10005307-1726153200-1726164000@chatham.ncabcboards.com
SUMMARY:Chatham Crossings
DESCRIPTION:Chatham Crossings Product Tasting Event\nThank you for visiting our Booking Page to book your tasting dates! Once you submit your request\, a member of our leadership team will contact you within 48 hours to confirm. \nDownload the Guidelines and necessary paperwork that will need to be signed prior to any sampling events being approved.  Once we have received the request form for the event we will confirm product availability within Chatham County\, as we do not stock every code available to us.  If there’s a code that we do not carry it may take a few weeks to receive from LBB.  Sampling events will be conducted Thursday-Saturday in three hour sessions. They will be held from 3pm-6pm. \nClick here to Download the Guidelines and email back to: matt@chatham.ncabcboards.com \nApproval will be emailed back to you which is confirmation of your event. If product will need to be ordered from LBB\, a team member will contact you to make any necessary date changes. \n*If you would like to request a time slot with a starting time other than what the default option is for the day you are booking\, please enter that in the notes section and our booking manager will reach out to discuss. \nNow lets get started\, please fill out the information below.
URL:https://chatham.ncabcboards.com/event/product-tasting-event/2024-09-12/
LOCATION:Chatham Crossings\, 11312 US HWY 15-501 N Suite 302\, Chapel Hill\, NC\, 27517
CATEGORIES:Chatham Crossings
END:VEVENT
BEGIN:VEVENT
DTSTART;TZID=America/New_York:20240913T150000
DTEND;TZID=America/New_York:20240913T180000
DTSTAMP:20260425T074537
CREATED:20221213T150644Z
LAST-MODIFIED:20251020T165345Z
UID:10005308-1726239600-1726250400@chatham.ncabcboards.com
SUMMARY:Chatham Crossings
DESCRIPTION:Chatham Crossings Product Tasting Event\nThank you for visiting our Booking Page to book your tasting dates! Once you submit your request\, a member of our leadership team will contact you within 48 hours to confirm. \nDownload the Guidelines and necessary paperwork that will need to be signed prior to any sampling events being approved.  Once we have received the request form for the event we will confirm product availability within Chatham County\, as we do not stock every code available to us.  If there’s a code that we do not carry it may take a few weeks to receive from LBB.  Sampling events will be conducted Thursday-Saturday in three hour sessions. They will be held from 3pm-6pm. \nClick here to Download the Guidelines and email back to: matt@chatham.ncabcboards.com \nApproval will be emailed back to you which is confirmation of your event. If product will need to be ordered from LBB\, a team member will contact you to make any necessary date changes. \n*If you would like to request a time slot with a starting time other than what the default option is for the day you are booking\, please enter that in the notes section and our booking manager will reach out to discuss. \nNow lets get started\, please fill out the information below.
URL:https://chatham.ncabcboards.com/event/product-tasting-event/2024-09-13/
LOCATION:Chatham Crossings\, 11312 US HWY 15-501 N Suite 302\, Chapel Hill\, NC\, 27517
CATEGORIES:Chatham Crossings
END:VEVENT
BEGIN:VEVENT
DTSTART;TZID=America/New_York:20240914T150000
DTEND;TZID=America/New_York:20240914T180000
DTSTAMP:20260425T074537
CREATED:20221213T150644Z
LAST-MODIFIED:20251020T165345Z
UID:10005309-1726326000-1726336800@chatham.ncabcboards.com
SUMMARY:Chatham Crossings
DESCRIPTION:Chatham Crossings Product Tasting Event\nThank you for visiting our Booking Page to book your tasting dates! Once you submit your request\, a member of our leadership team will contact you within 48 hours to confirm. \nDownload the Guidelines and necessary paperwork that will need to be signed prior to any sampling events being approved.  Once we have received the request form for the event we will confirm product availability within Chatham County\, as we do not stock every code available to us.  If there’s a code that we do not carry it may take a few weeks to receive from LBB.  Sampling events will be conducted Thursday-Saturday in three hour sessions. They will be held from 3pm-6pm. \nClick here to Download the Guidelines and email back to: matt@chatham.ncabcboards.com \nApproval will be emailed back to you which is confirmation of your event. If product will need to be ordered from LBB\, a team member will contact you to make any necessary date changes. \n*If you would like to request a time slot with a starting time other than what the default option is for the day you are booking\, please enter that in the notes section and our booking manager will reach out to discuss. \nNow lets get started\, please fill out the information below.
URL:https://chatham.ncabcboards.com/event/product-tasting-event/2024-09-14/
LOCATION:Chatham Crossings\, 11312 US HWY 15-501 N Suite 302\, Chapel Hill\, NC\, 27517
CATEGORIES:Chatham Crossings
END:VEVENT
BEGIN:VEVENT
DTSTART;TZID=America/New_York:20240919T150000
DTEND;TZID=America/New_York:20240919T180000
DTSTAMP:20260425T074537
CREATED:20221213T150644Z
LAST-MODIFIED:20251020T165345Z
UID:10005310-1726758000-1726768800@chatham.ncabcboards.com
SUMMARY:Chatham Crossings
DESCRIPTION:Chatham Crossings Product Tasting Event\nThank you for visiting our Booking Page to book your tasting dates! Once you submit your request\, a member of our leadership team will contact you within 48 hours to confirm. \nDownload the Guidelines and necessary paperwork that will need to be signed prior to any sampling events being approved.  Once we have received the request form for the event we will confirm product availability within Chatham County\, as we do not stock every code available to us.  If there’s a code that we do not carry it may take a few weeks to receive from LBB.  Sampling events will be conducted Thursday-Saturday in three hour sessions. They will be held from 3pm-6pm. \nClick here to Download the Guidelines and email back to: matt@chatham.ncabcboards.com \nApproval will be emailed back to you which is confirmation of your event. If product will need to be ordered from LBB\, a team member will contact you to make any necessary date changes. \n*If you would like to request a time slot with a starting time other than what the default option is for the day you are booking\, please enter that in the notes section and our booking manager will reach out to discuss. \nNow lets get started\, please fill out the information below.
URL:https://chatham.ncabcboards.com/event/product-tasting-event/2024-09-19/
LOCATION:Chatham Crossings\, 11312 US HWY 15-501 N Suite 302\, Chapel Hill\, NC\, 27517
CATEGORIES:Chatham Crossings
END:VEVENT
BEGIN:VEVENT
DTSTART;TZID=America/New_York:20240920T150000
DTEND;TZID=America/New_York:20240920T180000
DTSTAMP:20260425T074537
CREATED:20221213T150644Z
LAST-MODIFIED:20251020T165345Z
UID:10005311-1726844400-1726855200@chatham.ncabcboards.com
SUMMARY:Chatham Crossings
DESCRIPTION:Chatham Crossings Product Tasting Event\nThank you for visiting our Booking Page to book your tasting dates! Once you submit your request\, a member of our leadership team will contact you within 48 hours to confirm. \nDownload the Guidelines and necessary paperwork that will need to be signed prior to any sampling events being approved.  Once we have received the request form for the event we will confirm product availability within Chatham County\, as we do not stock every code available to us.  If there’s a code that we do not carry it may take a few weeks to receive from LBB.  Sampling events will be conducted Thursday-Saturday in three hour sessions. They will be held from 3pm-6pm. \nClick here to Download the Guidelines and email back to: matt@chatham.ncabcboards.com \nApproval will be emailed back to you which is confirmation of your event. If product will need to be ordered from LBB\, a team member will contact you to make any necessary date changes. \n*If you would like to request a time slot with a starting time other than what the default option is for the day you are booking\, please enter that in the notes section and our booking manager will reach out to discuss. \nNow lets get started\, please fill out the information below.
URL:https://chatham.ncabcboards.com/event/product-tasting-event/2024-09-20/
LOCATION:Chatham Crossings\, 11312 US HWY 15-501 N Suite 302\, Chapel Hill\, NC\, 27517
CATEGORIES:Chatham Crossings
END:VEVENT
BEGIN:VEVENT
DTSTART;TZID=America/New_York:20240921T150000
DTEND;TZID=America/New_York:20240921T180000
DTSTAMP:20260425T074537
CREATED:20221213T150644Z
LAST-MODIFIED:20251020T165345Z
UID:10005312-1726930800-1726941600@chatham.ncabcboards.com
SUMMARY:Chatham Crossings
DESCRIPTION:Chatham Crossings Product Tasting Event\nThank you for visiting our Booking Page to book your tasting dates! Once you submit your request\, a member of our leadership team will contact you within 48 hours to confirm. \nDownload the Guidelines and necessary paperwork that will need to be signed prior to any sampling events being approved.  Once we have received the request form for the event we will confirm product availability within Chatham County\, as we do not stock every code available to us.  If there’s a code that we do not carry it may take a few weeks to receive from LBB.  Sampling events will be conducted Thursday-Saturday in three hour sessions. They will be held from 3pm-6pm. \nClick here to Download the Guidelines and email back to: matt@chatham.ncabcboards.com \nApproval will be emailed back to you which is confirmation of your event. If product will need to be ordered from LBB\, a team member will contact you to make any necessary date changes. \n*If you would like to request a time slot with a starting time other than what the default option is for the day you are booking\, please enter that in the notes section and our booking manager will reach out to discuss. \nNow lets get started\, please fill out the information below.
URL:https://chatham.ncabcboards.com/event/product-tasting-event/2024-09-21/
LOCATION:Chatham Crossings\, 11312 US HWY 15-501 N Suite 302\, Chapel Hill\, NC\, 27517
CATEGORIES:Chatham Crossings
END:VEVENT
BEGIN:VEVENT
DTSTART;TZID=America/New_York:20240926T150000
DTEND;TZID=America/New_York:20240926T180000
DTSTAMP:20260425T074537
CREATED:20221213T150644Z
LAST-MODIFIED:20251020T165345Z
UID:10005313-1727362800-1727373600@chatham.ncabcboards.com
SUMMARY:Chatham Crossings
DESCRIPTION:Chatham Crossings Product Tasting Event\nThank you for visiting our Booking Page to book your tasting dates! Once you submit your request\, a member of our leadership team will contact you within 48 hours to confirm. \nDownload the Guidelines and necessary paperwork that will need to be signed prior to any sampling events being approved.  Once we have received the request form for the event we will confirm product availability within Chatham County\, as we do not stock every code available to us.  If there’s a code that we do not carry it may take a few weeks to receive from LBB.  Sampling events will be conducted Thursday-Saturday in three hour sessions. They will be held from 3pm-6pm. \nClick here to Download the Guidelines and email back to: matt@chatham.ncabcboards.com \nApproval will be emailed back to you which is confirmation of your event. If product will need to be ordered from LBB\, a team member will contact you to make any necessary date changes. \n*If you would like to request a time slot with a starting time other than what the default option is for the day you are booking\, please enter that in the notes section and our booking manager will reach out to discuss. \nNow lets get started\, please fill out the information below.
URL:https://chatham.ncabcboards.com/event/product-tasting-event/2024-09-26/
LOCATION:Chatham Crossings\, 11312 US HWY 15-501 N Suite 302\, Chapel Hill\, NC\, 27517
CATEGORIES:Chatham Crossings
END:VEVENT
BEGIN:VEVENT
DTSTART;TZID=America/New_York:20240927T150000
DTEND;TZID=America/New_York:20240927T180000
DTSTAMP:20260425T074537
CREATED:20221213T150644Z
LAST-MODIFIED:20251020T165345Z
UID:10005314-1727449200-1727460000@chatham.ncabcboards.com
SUMMARY:Chatham Crossings
DESCRIPTION:Chatham Crossings Product Tasting Event\nThank you for visiting our Booking Page to book your tasting dates! Once you submit your request\, a member of our leadership team will contact you within 48 hours to confirm. \nDownload the Guidelines and necessary paperwork that will need to be signed prior to any sampling events being approved.  Once we have received the request form for the event we will confirm product availability within Chatham County\, as we do not stock every code available to us.  If there’s a code that we do not carry it may take a few weeks to receive from LBB.  Sampling events will be conducted Thursday-Saturday in three hour sessions. They will be held from 3pm-6pm. \nClick here to Download the Guidelines and email back to: matt@chatham.ncabcboards.com \nApproval will be emailed back to you which is confirmation of your event. If product will need to be ordered from LBB\, a team member will contact you to make any necessary date changes. \n*If you would like to request a time slot with a starting time other than what the default option is for the day you are booking\, please enter that in the notes section and our booking manager will reach out to discuss. \nNow lets get started\, please fill out the information below.
URL:https://chatham.ncabcboards.com/event/product-tasting-event/2024-09-27/
LOCATION:Chatham Crossings\, 11312 US HWY 15-501 N Suite 302\, Chapel Hill\, NC\, 27517
CATEGORIES:Chatham Crossings
END:VEVENT
BEGIN:VEVENT
DTSTART;TZID=America/New_York:20240928T150000
DTEND;TZID=America/New_York:20240928T180000
DTSTAMP:20260425T074537
CREATED:20221213T150644Z
LAST-MODIFIED:20251020T165345Z
UID:10005315-1727535600-1727546400@chatham.ncabcboards.com
SUMMARY:Chatham Crossings
DESCRIPTION:Chatham Crossings Product Tasting Event\nThank you for visiting our Booking Page to book your tasting dates! Once you submit your request\, a member of our leadership team will contact you within 48 hours to confirm. \nDownload the Guidelines and necessary paperwork that will need to be signed prior to any sampling events being approved.  Once we have received the request form for the event we will confirm product availability within Chatham County\, as we do not stock every code available to us.  If there’s a code that we do not carry it may take a few weeks to receive from LBB.  Sampling events will be conducted Thursday-Saturday in three hour sessions. They will be held from 3pm-6pm. \nClick here to Download the Guidelines and email back to: matt@chatham.ncabcboards.com \nApproval will be emailed back to you which is confirmation of your event. If product will need to be ordered from LBB\, a team member will contact you to make any necessary date changes. \n*If you would like to request a time slot with a starting time other than what the default option is for the day you are booking\, please enter that in the notes section and our booking manager will reach out to discuss. \nNow lets get started\, please fill out the information below.
URL:https://chatham.ncabcboards.com/event/product-tasting-event/2024-09-28/
LOCATION:Chatham Crossings\, 11312 US HWY 15-501 N Suite 302\, Chapel Hill\, NC\, 27517
CATEGORIES:Chatham Crossings
END:VEVENT
END:VCALENDAR