BEGIN:VCALENDAR
VERSION:2.0
PRODID:-//Chatham County NC ABC Board - ECPv6.15.14//NONSGML v1.0//EN
CALSCALE:GREGORIAN
METHOD:PUBLISH
X-ORIGINAL-URL:https://chatham.ncabcboards.com
X-WR-CALDESC:Events for Chatham County NC ABC Board
REFRESH-INTERVAL;VALUE=DURATION:PT1H
X-Robots-Tag:noindex
X-PUBLISHED-TTL:PT1H
BEGIN:VTIMEZONE
TZID:America/New_York
BEGIN:DAYLIGHT
TZOFFSETFROM:-0500
TZOFFSETTO:-0400
TZNAME:EDT
DTSTART:20230312T070000
END:DAYLIGHT
BEGIN:STANDARD
TZOFFSETFROM:-0400
TZOFFSETTO:-0500
TZNAME:EST
DTSTART:20231105T060000
END:STANDARD
BEGIN:DAYLIGHT
TZOFFSETFROM:-0500
TZOFFSETTO:-0400
TZNAME:EDT
DTSTART:20240310T070000
END:DAYLIGHT
BEGIN:STANDARD
TZOFFSETFROM:-0400
TZOFFSETTO:-0500
TZNAME:EST
DTSTART:20241103T060000
END:STANDARD
BEGIN:DAYLIGHT
TZOFFSETFROM:-0500
TZOFFSETTO:-0400
TZNAME:EDT
DTSTART:20250309T070000
END:DAYLIGHT
BEGIN:STANDARD
TZOFFSETFROM:-0400
TZOFFSETTO:-0500
TZNAME:EST
DTSTART:20251102T060000
END:STANDARD
END:VTIMEZONE
BEGIN:VEVENT
DTSTART;TZID=America/New_York:20240801T150000
DTEND;TZID=America/New_York:20240801T180000
DTSTAMP:20260425T090636
CREATED:20221213T150644Z
LAST-MODIFIED:20251020T165345Z
UID:10005289-1722524400-1722535200@chatham.ncabcboards.com
SUMMARY:Chatham Crossings
DESCRIPTION:Chatham Crossings Product Tasting Event\nThank you for visiting our Booking Page to book your tasting dates! Once you submit your request\, a member of our leadership team will contact you within 48 hours to confirm. \nDownload the Guidelines and necessary paperwork that will need to be signed prior to any sampling events being approved.  Once we have received the request form for the event we will confirm product availability within Chatham County\, as we do not stock every code available to us.  If there’s a code that we do not carry it may take a few weeks to receive from LBB.  Sampling events will be conducted Thursday-Saturday in three hour sessions. They will be held from 3pm-6pm. \nClick here to Download the Guidelines and email back to: matt@chatham.ncabcboards.com \nApproval will be emailed back to you which is confirmation of your event. If product will need to be ordered from LBB\, a team member will contact you to make any necessary date changes. \n*If you would like to request a time slot with a starting time other than what the default option is for the day you are booking\, please enter that in the notes section and our booking manager will reach out to discuss. \nNow lets get started\, please fill out the information below.
URL:https://chatham.ncabcboards.com/event/product-tasting-event/2024-08-01/
LOCATION:Chatham Crossings\, 11312 US HWY 15-501 N Suite 302\, Chapel Hill\, NC\, 27517
CATEGORIES:Chatham Crossings
END:VEVENT
BEGIN:VEVENT
DTSTART;TZID=America/New_York:20240802T150000
DTEND;TZID=America/New_York:20240802T180000
DTSTAMP:20260425T090636
CREATED:20221213T150644Z
LAST-MODIFIED:20251020T165345Z
UID:10005290-1722610800-1722621600@chatham.ncabcboards.com
SUMMARY:Chatham Crossings
DESCRIPTION:Chatham Crossings Product Tasting Event\nThank you for visiting our Booking Page to book your tasting dates! Once you submit your request\, a member of our leadership team will contact you within 48 hours to confirm. \nDownload the Guidelines and necessary paperwork that will need to be signed prior to any sampling events being approved.  Once we have received the request form for the event we will confirm product availability within Chatham County\, as we do not stock every code available to us.  If there’s a code that we do not carry it may take a few weeks to receive from LBB.  Sampling events will be conducted Thursday-Saturday in three hour sessions. They will be held from 3pm-6pm. \nClick here to Download the Guidelines and email back to: matt@chatham.ncabcboards.com \nApproval will be emailed back to you which is confirmation of your event. If product will need to be ordered from LBB\, a team member will contact you to make any necessary date changes. \n*If you would like to request a time slot with a starting time other than what the default option is for the day you are booking\, please enter that in the notes section and our booking manager will reach out to discuss. \nNow lets get started\, please fill out the information below.
URL:https://chatham.ncabcboards.com/event/product-tasting-event/2024-08-02/
LOCATION:Chatham Crossings\, 11312 US HWY 15-501 N Suite 302\, Chapel Hill\, NC\, 27517
CATEGORIES:Chatham Crossings
END:VEVENT
BEGIN:VEVENT
DTSTART;TZID=America/New_York:20240803T150000
DTEND;TZID=America/New_York:20240803T180000
DTSTAMP:20260425T090636
CREATED:20221213T150644Z
LAST-MODIFIED:20251020T165345Z
UID:10005291-1722697200-1722708000@chatham.ncabcboards.com
SUMMARY:Chatham Crossings
DESCRIPTION:Chatham Crossings Product Tasting Event\nThank you for visiting our Booking Page to book your tasting dates! Once you submit your request\, a member of our leadership team will contact you within 48 hours to confirm. \nDownload the Guidelines and necessary paperwork that will need to be signed prior to any sampling events being approved.  Once we have received the request form for the event we will confirm product availability within Chatham County\, as we do not stock every code available to us.  If there’s a code that we do not carry it may take a few weeks to receive from LBB.  Sampling events will be conducted Thursday-Saturday in three hour sessions. They will be held from 3pm-6pm. \nClick here to Download the Guidelines and email back to: matt@chatham.ncabcboards.com \nApproval will be emailed back to you which is confirmation of your event. If product will need to be ordered from LBB\, a team member will contact you to make any necessary date changes. \n*If you would like to request a time slot with a starting time other than what the default option is for the day you are booking\, please enter that in the notes section and our booking manager will reach out to discuss. \nNow lets get started\, please fill out the information below.
URL:https://chatham.ncabcboards.com/event/product-tasting-event/2024-08-03/
LOCATION:Chatham Crossings\, 11312 US HWY 15-501 N Suite 302\, Chapel Hill\, NC\, 27517
CATEGORIES:Chatham Crossings
END:VEVENT
BEGIN:VEVENT
DTSTART;TZID=America/New_York:20240808T150000
DTEND;TZID=America/New_York:20240808T180000
DTSTAMP:20260425T090636
CREATED:20221213T150644Z
LAST-MODIFIED:20251020T165345Z
UID:10005292-1723129200-1723140000@chatham.ncabcboards.com
SUMMARY:Chatham Crossings
DESCRIPTION:Chatham Crossings Product Tasting Event\nThank you for visiting our Booking Page to book your tasting dates! Once you submit your request\, a member of our leadership team will contact you within 48 hours to confirm. \nDownload the Guidelines and necessary paperwork that will need to be signed prior to any sampling events being approved.  Once we have received the request form for the event we will confirm product availability within Chatham County\, as we do not stock every code available to us.  If there’s a code that we do not carry it may take a few weeks to receive from LBB.  Sampling events will be conducted Thursday-Saturday in three hour sessions. They will be held from 3pm-6pm. \nClick here to Download the Guidelines and email back to: matt@chatham.ncabcboards.com \nApproval will be emailed back to you which is confirmation of your event. If product will need to be ordered from LBB\, a team member will contact you to make any necessary date changes. \n*If you would like to request a time slot with a starting time other than what the default option is for the day you are booking\, please enter that in the notes section and our booking manager will reach out to discuss. \nNow lets get started\, please fill out the information below.
URL:https://chatham.ncabcboards.com/event/product-tasting-event/2024-08-08/
LOCATION:Chatham Crossings\, 11312 US HWY 15-501 N Suite 302\, Chapel Hill\, NC\, 27517
CATEGORIES:Chatham Crossings
END:VEVENT
BEGIN:VEVENT
DTSTART;TZID=America/New_York:20240809T150000
DTEND;TZID=America/New_York:20240809T180000
DTSTAMP:20260425T090636
CREATED:20221213T150644Z
LAST-MODIFIED:20251020T165345Z
UID:10005293-1723215600-1723226400@chatham.ncabcboards.com
SUMMARY:Chatham Crossings
DESCRIPTION:Chatham Crossings Product Tasting Event\nThank you for visiting our Booking Page to book your tasting dates! Once you submit your request\, a member of our leadership team will contact you within 48 hours to confirm. \nDownload the Guidelines and necessary paperwork that will need to be signed prior to any sampling events being approved.  Once we have received the request form for the event we will confirm product availability within Chatham County\, as we do not stock every code available to us.  If there’s a code that we do not carry it may take a few weeks to receive from LBB.  Sampling events will be conducted Thursday-Saturday in three hour sessions. They will be held from 3pm-6pm. \nClick here to Download the Guidelines and email back to: matt@chatham.ncabcboards.com \nApproval will be emailed back to you which is confirmation of your event. If product will need to be ordered from LBB\, a team member will contact you to make any necessary date changes. \n*If you would like to request a time slot with a starting time other than what the default option is for the day you are booking\, please enter that in the notes section and our booking manager will reach out to discuss. \nNow lets get started\, please fill out the information below.
URL:https://chatham.ncabcboards.com/event/product-tasting-event/2024-08-09/
LOCATION:Chatham Crossings\, 11312 US HWY 15-501 N Suite 302\, Chapel Hill\, NC\, 27517
CATEGORIES:Chatham Crossings
END:VEVENT
BEGIN:VEVENT
DTSTART;TZID=America/New_York:20240810T150000
DTEND;TZID=America/New_York:20240810T180000
DTSTAMP:20260425T090636
CREATED:20221213T150644Z
LAST-MODIFIED:20251020T165345Z
UID:10005294-1723302000-1723312800@chatham.ncabcboards.com
SUMMARY:Chatham Crossings
DESCRIPTION:Chatham Crossings Product Tasting Event\nThank you for visiting our Booking Page to book your tasting dates! Once you submit your request\, a member of our leadership team will contact you within 48 hours to confirm. \nDownload the Guidelines and necessary paperwork that will need to be signed prior to any sampling events being approved.  Once we have received the request form for the event we will confirm product availability within Chatham County\, as we do not stock every code available to us.  If there’s a code that we do not carry it may take a few weeks to receive from LBB.  Sampling events will be conducted Thursday-Saturday in three hour sessions. They will be held from 3pm-6pm. \nClick here to Download the Guidelines and email back to: matt@chatham.ncabcboards.com \nApproval will be emailed back to you which is confirmation of your event. If product will need to be ordered from LBB\, a team member will contact you to make any necessary date changes. \n*If you would like to request a time slot with a starting time other than what the default option is for the day you are booking\, please enter that in the notes section and our booking manager will reach out to discuss. \nNow lets get started\, please fill out the information below.
URL:https://chatham.ncabcboards.com/event/product-tasting-event/2024-08-10/
LOCATION:Chatham Crossings\, 11312 US HWY 15-501 N Suite 302\, Chapel Hill\, NC\, 27517
CATEGORIES:Chatham Crossings
END:VEVENT
BEGIN:VEVENT
DTSTART;TZID=America/New_York:20240815T150000
DTEND;TZID=America/New_York:20240815T180000
DTSTAMP:20260425T090636
CREATED:20221213T150644Z
LAST-MODIFIED:20251020T165345Z
UID:10005295-1723734000-1723744800@chatham.ncabcboards.com
SUMMARY:Chatham Crossings
DESCRIPTION:Chatham Crossings Product Tasting Event\nThank you for visiting our Booking Page to book your tasting dates! Once you submit your request\, a member of our leadership team will contact you within 48 hours to confirm. \nDownload the Guidelines and necessary paperwork that will need to be signed prior to any sampling events being approved.  Once we have received the request form for the event we will confirm product availability within Chatham County\, as we do not stock every code available to us.  If there’s a code that we do not carry it may take a few weeks to receive from LBB.  Sampling events will be conducted Thursday-Saturday in three hour sessions. They will be held from 3pm-6pm. \nClick here to Download the Guidelines and email back to: matt@chatham.ncabcboards.com \nApproval will be emailed back to you which is confirmation of your event. If product will need to be ordered from LBB\, a team member will contact you to make any necessary date changes. \n*If you would like to request a time slot with a starting time other than what the default option is for the day you are booking\, please enter that in the notes section and our booking manager will reach out to discuss. \nNow lets get started\, please fill out the information below.
URL:https://chatham.ncabcboards.com/event/product-tasting-event/2024-08-15/
LOCATION:Chatham Crossings\, 11312 US HWY 15-501 N Suite 302\, Chapel Hill\, NC\, 27517
CATEGORIES:Chatham Crossings
END:VEVENT
BEGIN:VEVENT
DTSTART;TZID=America/New_York:20240816T150000
DTEND;TZID=America/New_York:20240816T180000
DTSTAMP:20260425T090636
CREATED:20221213T150644Z
LAST-MODIFIED:20251020T165345Z
UID:10005296-1723820400-1723831200@chatham.ncabcboards.com
SUMMARY:Chatham Crossings
DESCRIPTION:Chatham Crossings Product Tasting Event\nThank you for visiting our Booking Page to book your tasting dates! Once you submit your request\, a member of our leadership team will contact you within 48 hours to confirm. \nDownload the Guidelines and necessary paperwork that will need to be signed prior to any sampling events being approved.  Once we have received the request form for the event we will confirm product availability within Chatham County\, as we do not stock every code available to us.  If there’s a code that we do not carry it may take a few weeks to receive from LBB.  Sampling events will be conducted Thursday-Saturday in three hour sessions. They will be held from 3pm-6pm. \nClick here to Download the Guidelines and email back to: matt@chatham.ncabcboards.com \nApproval will be emailed back to you which is confirmation of your event. If product will need to be ordered from LBB\, a team member will contact you to make any necessary date changes. \n*If you would like to request a time slot with a starting time other than what the default option is for the day you are booking\, please enter that in the notes section and our booking manager will reach out to discuss. \nNow lets get started\, please fill out the information below.
URL:https://chatham.ncabcboards.com/event/product-tasting-event/2024-08-16/
LOCATION:Chatham Crossings\, 11312 US HWY 15-501 N Suite 302\, Chapel Hill\, NC\, 27517
CATEGORIES:Chatham Crossings
END:VEVENT
BEGIN:VEVENT
DTSTART;TZID=America/New_York:20240817T150000
DTEND;TZID=America/New_York:20240817T180000
DTSTAMP:20260425T090636
CREATED:20221213T150644Z
LAST-MODIFIED:20251020T165345Z
UID:10005297-1723906800-1723917600@chatham.ncabcboards.com
SUMMARY:Chatham Crossings
DESCRIPTION:Chatham Crossings Product Tasting Event\nThank you for visiting our Booking Page to book your tasting dates! Once you submit your request\, a member of our leadership team will contact you within 48 hours to confirm. \nDownload the Guidelines and necessary paperwork that will need to be signed prior to any sampling events being approved.  Once we have received the request form for the event we will confirm product availability within Chatham County\, as we do not stock every code available to us.  If there’s a code that we do not carry it may take a few weeks to receive from LBB.  Sampling events will be conducted Thursday-Saturday in three hour sessions. They will be held from 3pm-6pm. \nClick here to Download the Guidelines and email back to: matt@chatham.ncabcboards.com \nApproval will be emailed back to you which is confirmation of your event. If product will need to be ordered from LBB\, a team member will contact you to make any necessary date changes. \n*If you would like to request a time slot with a starting time other than what the default option is for the day you are booking\, please enter that in the notes section and our booking manager will reach out to discuss. \nNow lets get started\, please fill out the information below.
URL:https://chatham.ncabcboards.com/event/product-tasting-event/2024-08-17/
LOCATION:Chatham Crossings\, 11312 US HWY 15-501 N Suite 302\, Chapel Hill\, NC\, 27517
CATEGORIES:Chatham Crossings
END:VEVENT
BEGIN:VEVENT
DTSTART;TZID=America/New_York:20240822T150000
DTEND;TZID=America/New_York:20240822T180000
DTSTAMP:20260425T090636
CREATED:20221213T150644Z
LAST-MODIFIED:20251020T165345Z
UID:10005298-1724338800-1724349600@chatham.ncabcboards.com
SUMMARY:Chatham Crossings
DESCRIPTION:Chatham Crossings Product Tasting Event\nThank you for visiting our Booking Page to book your tasting dates! Once you submit your request\, a member of our leadership team will contact you within 48 hours to confirm. \nDownload the Guidelines and necessary paperwork that will need to be signed prior to any sampling events being approved.  Once we have received the request form for the event we will confirm product availability within Chatham County\, as we do not stock every code available to us.  If there’s a code that we do not carry it may take a few weeks to receive from LBB.  Sampling events will be conducted Thursday-Saturday in three hour sessions. They will be held from 3pm-6pm. \nClick here to Download the Guidelines and email back to: matt@chatham.ncabcboards.com \nApproval will be emailed back to you which is confirmation of your event. If product will need to be ordered from LBB\, a team member will contact you to make any necessary date changes. \n*If you would like to request a time slot with a starting time other than what the default option is for the day you are booking\, please enter that in the notes section and our booking manager will reach out to discuss. \nNow lets get started\, please fill out the information below.
URL:https://chatham.ncabcboards.com/event/product-tasting-event/2024-08-22/
LOCATION:Chatham Crossings\, 11312 US HWY 15-501 N Suite 302\, Chapel Hill\, NC\, 27517
CATEGORIES:Chatham Crossings
END:VEVENT
BEGIN:VEVENT
DTSTART;TZID=America/New_York:20240823T150000
DTEND;TZID=America/New_York:20240823T180000
DTSTAMP:20260425T090636
CREATED:20221213T150644Z
LAST-MODIFIED:20251020T165345Z
UID:10005299-1724425200-1724436000@chatham.ncabcboards.com
SUMMARY:Chatham Crossings
DESCRIPTION:Chatham Crossings Product Tasting Event\nThank you for visiting our Booking Page to book your tasting dates! Once you submit your request\, a member of our leadership team will contact you within 48 hours to confirm. \nDownload the Guidelines and necessary paperwork that will need to be signed prior to any sampling events being approved.  Once we have received the request form for the event we will confirm product availability within Chatham County\, as we do not stock every code available to us.  If there’s a code that we do not carry it may take a few weeks to receive from LBB.  Sampling events will be conducted Thursday-Saturday in three hour sessions. They will be held from 3pm-6pm. \nClick here to Download the Guidelines and email back to: matt@chatham.ncabcboards.com \nApproval will be emailed back to you which is confirmation of your event. If product will need to be ordered from LBB\, a team member will contact you to make any necessary date changes. \n*If you would like to request a time slot with a starting time other than what the default option is for the day you are booking\, please enter that in the notes section and our booking manager will reach out to discuss. \nNow lets get started\, please fill out the information below.
URL:https://chatham.ncabcboards.com/event/product-tasting-event/2024-08-23/
LOCATION:Chatham Crossings\, 11312 US HWY 15-501 N Suite 302\, Chapel Hill\, NC\, 27517
CATEGORIES:Chatham Crossings
END:VEVENT
BEGIN:VEVENT
DTSTART;TZID=America/New_York:20240824T150000
DTEND;TZID=America/New_York:20240824T180000
DTSTAMP:20260425T090636
CREATED:20221213T150644Z
LAST-MODIFIED:20251020T165345Z
UID:10005300-1724511600-1724522400@chatham.ncabcboards.com
SUMMARY:Chatham Crossings
DESCRIPTION:Chatham Crossings Product Tasting Event\nThank you for visiting our Booking Page to book your tasting dates! Once you submit your request\, a member of our leadership team will contact you within 48 hours to confirm. \nDownload the Guidelines and necessary paperwork that will need to be signed prior to any sampling events being approved.  Once we have received the request form for the event we will confirm product availability within Chatham County\, as we do not stock every code available to us.  If there’s a code that we do not carry it may take a few weeks to receive from LBB.  Sampling events will be conducted Thursday-Saturday in three hour sessions. They will be held from 3pm-6pm. \nClick here to Download the Guidelines and email back to: matt@chatham.ncabcboards.com \nApproval will be emailed back to you which is confirmation of your event. If product will need to be ordered from LBB\, a team member will contact you to make any necessary date changes. \n*If you would like to request a time slot with a starting time other than what the default option is for the day you are booking\, please enter that in the notes section and our booking manager will reach out to discuss. \nNow lets get started\, please fill out the information below.
URL:https://chatham.ncabcboards.com/event/product-tasting-event/2024-08-24/
LOCATION:Chatham Crossings\, 11312 US HWY 15-501 N Suite 302\, Chapel Hill\, NC\, 27517
CATEGORIES:Chatham Crossings
END:VEVENT
BEGIN:VEVENT
DTSTART;TZID=America/New_York:20240829T150000
DTEND;TZID=America/New_York:20240829T180000
DTSTAMP:20260425T090636
CREATED:20221213T150644Z
LAST-MODIFIED:20251020T165345Z
UID:10005301-1724943600-1724954400@chatham.ncabcboards.com
SUMMARY:Chatham Crossings
DESCRIPTION:Chatham Crossings Product Tasting Event\nThank you for visiting our Booking Page to book your tasting dates! Once you submit your request\, a member of our leadership team will contact you within 48 hours to confirm. \nDownload the Guidelines and necessary paperwork that will need to be signed prior to any sampling events being approved.  Once we have received the request form for the event we will confirm product availability within Chatham County\, as we do not stock every code available to us.  If there’s a code that we do not carry it may take a few weeks to receive from LBB.  Sampling events will be conducted Thursday-Saturday in three hour sessions. They will be held from 3pm-6pm. \nClick here to Download the Guidelines and email back to: matt@chatham.ncabcboards.com \nApproval will be emailed back to you which is confirmation of your event. If product will need to be ordered from LBB\, a team member will contact you to make any necessary date changes. \n*If you would like to request a time slot with a starting time other than what the default option is for the day you are booking\, please enter that in the notes section and our booking manager will reach out to discuss. \nNow lets get started\, please fill out the information below.
URL:https://chatham.ncabcboards.com/event/product-tasting-event/2024-08-29/
LOCATION:Chatham Crossings\, 11312 US HWY 15-501 N Suite 302\, Chapel Hill\, NC\, 27517
CATEGORIES:Chatham Crossings
END:VEVENT
BEGIN:VEVENT
DTSTART;TZID=America/New_York:20240830T150000
DTEND;TZID=America/New_York:20240830T180000
DTSTAMP:20260425T090636
CREATED:20221213T150644Z
LAST-MODIFIED:20251020T165345Z
UID:10005302-1725030000-1725040800@chatham.ncabcboards.com
SUMMARY:Chatham Crossings
DESCRIPTION:Chatham Crossings Product Tasting Event\nThank you for visiting our Booking Page to book your tasting dates! Once you submit your request\, a member of our leadership team will contact you within 48 hours to confirm. \nDownload the Guidelines and necessary paperwork that will need to be signed prior to any sampling events being approved.  Once we have received the request form for the event we will confirm product availability within Chatham County\, as we do not stock every code available to us.  If there’s a code that we do not carry it may take a few weeks to receive from LBB.  Sampling events will be conducted Thursday-Saturday in three hour sessions. They will be held from 3pm-6pm. \nClick here to Download the Guidelines and email back to: matt@chatham.ncabcboards.com \nApproval will be emailed back to you which is confirmation of your event. If product will need to be ordered from LBB\, a team member will contact you to make any necessary date changes. \n*If you would like to request a time slot with a starting time other than what the default option is for the day you are booking\, please enter that in the notes section and our booking manager will reach out to discuss. \nNow lets get started\, please fill out the information below.
URL:https://chatham.ncabcboards.com/event/product-tasting-event/2024-08-30/
LOCATION:Chatham Crossings\, 11312 US HWY 15-501 N Suite 302\, Chapel Hill\, NC\, 27517
CATEGORIES:Chatham Crossings
END:VEVENT
BEGIN:VEVENT
DTSTART;TZID=America/New_York:20240831T150000
DTEND;TZID=America/New_York:20240831T180000
DTSTAMP:20260425T090636
CREATED:20221213T150644Z
LAST-MODIFIED:20251020T165345Z
UID:10005303-1725116400-1725127200@chatham.ncabcboards.com
SUMMARY:Chatham Crossings
DESCRIPTION:Chatham Crossings Product Tasting Event\nThank you for visiting our Booking Page to book your tasting dates! Once you submit your request\, a member of our leadership team will contact you within 48 hours to confirm. \nDownload the Guidelines and necessary paperwork that will need to be signed prior to any sampling events being approved.  Once we have received the request form for the event we will confirm product availability within Chatham County\, as we do not stock every code available to us.  If there’s a code that we do not carry it may take a few weeks to receive from LBB.  Sampling events will be conducted Thursday-Saturday in three hour sessions. They will be held from 3pm-6pm. \nClick here to Download the Guidelines and email back to: matt@chatham.ncabcboards.com \nApproval will be emailed back to you which is confirmation of your event. If product will need to be ordered from LBB\, a team member will contact you to make any necessary date changes. \n*If you would like to request a time slot with a starting time other than what the default option is for the day you are booking\, please enter that in the notes section and our booking manager will reach out to discuss. \nNow lets get started\, please fill out the information below.
URL:https://chatham.ncabcboards.com/event/product-tasting-event/2024-08-31/
LOCATION:Chatham Crossings\, 11312 US HWY 15-501 N Suite 302\, Chapel Hill\, NC\, 27517
CATEGORIES:Chatham Crossings
END:VEVENT
END:VCALENDAR